BEGIN:VCALENDAR
VERSION:2.0
PRODID:-//National Biodiversity Week - ECPv6.15.17.1//NONSGML v1.0//EN
CALSCALE:GREGORIAN
METHOD:PUBLISH
X-ORIGINAL-URL:https://biodiversityweek.ie
X-WR-CALDESC:Events for National Biodiversity Week
REFRESH-INTERVAL;VALUE=DURATION:PT1H
X-Robots-Tag:noindex
X-PUBLISHED-TTL:PT1H
BEGIN:VTIMEZONE
TZID:Europe/Dublin
BEGIN:STANDARD
TZOFFSETFROM:+0000
TZOFFSETTO:+0100
TZNAME:IST
DTSTART:20250330T010000
END:STANDARD
BEGIN:DAYLIGHT
TZOFFSETFROM:+0100
TZOFFSETTO:+0000
TZNAME:GMT
DTSTART:20251026T010000
END:DAYLIGHT
BEGIN:STANDARD
TZOFFSETFROM:+0000
TZOFFSETTO:+0100
TZNAME:IST
DTSTART:20260329T010000
END:STANDARD
BEGIN:DAYLIGHT
TZOFFSETFROM:+0100
TZOFFSETTO:+0000
TZNAME:GMT
DTSTART:20261025T010000
END:DAYLIGHT
BEGIN:STANDARD
TZOFFSETFROM:+0000
TZOFFSETTO:+0100
TZNAME:IST
DTSTART:20270328T010000
END:STANDARD
BEGIN:DAYLIGHT
TZOFFSETFROM:+0100
TZOFFSETTO:+0000
TZNAME:GMT
DTSTART:20271031T010000
END:DAYLIGHT
END:VTIMEZONE
BEGIN:VEVENT
DTSTART;TZID=Europe/Dublin:20260523T120000
DTEND;TZID=Europe/Dublin:20260523T140000
DTSTAMP:20260424T110903
CREATED:20260408T120119Z
LAST-MODIFIED:20260408T120119Z
UID:10001591-1779537600-1779544800@biodiversityweek.ie
SUMMARY:Leagh Farm Organics Biodiversity Walk Co Kerry 2026
DESCRIPTION:This is a listing for one of Talamh Beo’s Farm Walks for National Biodiversity Week 2026: Leagh Farm Organics Biodiversity Walk Co Kerry \nTalamh Beo has organised a very exciting line up of 14 Farm Walks for National Biodiversity Week 2026 which takes place all across the country from 15th-24th May. \nThese walks are with the support of The Irish Environmental Network (IEN)
URL:https://biodiversityweek.ie/event/leagh-farm-organics-biodiversity-walk-co-kerry-2026/
LOCATION:V92KH77\, LEIGH\, BALLYDUFF\, V92KH77
CATEGORIES:Family Friendly,Farm,Hedgerows
ATTACH;FMTTYPE=image/jpeg:https://biodiversityweek.ie/wp-content/uploads/2026/04/Leagh-Farm-2026.jpg
END:VEVENT
END:VCALENDAR