BEGIN:VCALENDAR
VERSION:2.0
PRODID:-//National Biodiversity Week - ECPv6.15.17.1//NONSGML v1.0//EN
CALSCALE:GREGORIAN
METHOD:PUBLISH
X-WR-CALNAME:National Biodiversity Week
X-ORIGINAL-URL:https://biodiversityweek.ie
X-WR-CALDESC:Events for National Biodiversity Week
REFRESH-INTERVAL;VALUE=DURATION:PT1H
X-Robots-Tag:noindex
X-PUBLISHED-TTL:PT1H
BEGIN:VTIMEZONE
TZID:Europe/Dublin
BEGIN:STANDARD
TZOFFSETFROM:+0000
TZOFFSETTO:+0100
TZNAME:IST
DTSTART:20250330T010000
END:STANDARD
BEGIN:DAYLIGHT
TZOFFSETFROM:+0100
TZOFFSETTO:+0000
TZNAME:GMT
DTSTART:20251026T010000
END:DAYLIGHT
BEGIN:STANDARD
TZOFFSETFROM:+0000
TZOFFSETTO:+0100
TZNAME:IST
DTSTART:20260329T010000
END:STANDARD
BEGIN:DAYLIGHT
TZOFFSETFROM:+0100
TZOFFSETTO:+0000
TZNAME:GMT
DTSTART:20261025T010000
END:DAYLIGHT
BEGIN:STANDARD
TZOFFSETFROM:+0000
TZOFFSETTO:+0100
TZNAME:IST
DTSTART:20270328T010000
END:STANDARD
BEGIN:DAYLIGHT
TZOFFSETFROM:+0100
TZOFFSETTO:+0000
TZNAME:GMT
DTSTART:20271031T010000
END:DAYLIGHT
END:VTIMEZONE
BEGIN:VEVENT
DTSTART;TZID=Europe/Dublin:20260519T190000
DTEND;TZID=Europe/Dublin:20260519T200000
DTSTAMP:20260420T111315
CREATED:20260404T120930Z
LAST-MODIFIED:20260404T120930Z
UID:10001558-1779217200-1779220800@biodiversityweek.ie
SUMMARY:Bithéagsúlacht agus Gaeilge | Biodiversity and Irish
DESCRIPTION:Join Oisín Ó Néill\, Nature Advocacy Officer with the Irish Wildlife Trust\, for an interactive talk exploring the connections between biodiversity and the Irish language. Examining place names\, species names\, proverbs and more to reveal how the Irish language is deeply connected to nature\, and to frame a discussion on biodiversity loss and the restoration of nature in Ireland today. \nBígí linn ar an 19ú Bealtaine\, dhéanfaidh Oisín Ó Néill\, Oifigeach Abhcóideachta Dúlra leis an Irish Wildlife Trust\, caint agus plé idirghníomhach ar na ceangail idir an bhithéagsúlacht agus an Ghaeilge. Ag breathnú ar logainmneacha\, ainmneacha speiceas\, seanfhocail agus eile\, léirítear an nasc idir an teanga agus an dúlra\, agus spreagtar plé ar chailliúint na bithéagsúlachta agus ar an dúlra a athchóiriú in Éirinn
URL:https://biodiversityweek.ie/event/bitheagsulacht-agus-gaeilge-biodiversity-and-irish/
LOCATION:Pearse Centre\, 27 Pearse Street\, Dublin 2\, D02 K037
CATEGORIES:Accessible by Public Transport,Community Action,Trees and Woodlands
ATTACH;FMTTYPE=image/jpeg:https://biodiversityweek.ie/wp-content/uploads/2026/04/Biodiversity-Week-2026-IEN-portal-2.jpg
END:VEVENT
END:VCALENDAR