BEGIN:VCALENDAR
VERSION:2.0
PRODID:-//National Biodiversity Week - ECPv6.15.17.1//NONSGML v1.0//EN
CALSCALE:GREGORIAN
METHOD:PUBLISH
X-WR-CALNAME:National Biodiversity Week
X-ORIGINAL-URL:https://biodiversityweek.ie
X-WR-CALDESC:Events for National Biodiversity Week
REFRESH-INTERVAL;VALUE=DURATION:PT1H
X-Robots-Tag:noindex
X-PUBLISHED-TTL:PT1H
BEGIN:VTIMEZONE
TZID:Europe/Dublin
BEGIN:STANDARD
TZOFFSETFROM:+0000
TZOFFSETTO:+0100
TZNAME:IST
DTSTART:20250330T010000
END:STANDARD
BEGIN:DAYLIGHT
TZOFFSETFROM:+0100
TZOFFSETTO:+0000
TZNAME:GMT
DTSTART:20251026T010000
END:DAYLIGHT
BEGIN:STANDARD
TZOFFSETFROM:+0000
TZOFFSETTO:+0100
TZNAME:IST
DTSTART:20260329T010000
END:STANDARD
BEGIN:DAYLIGHT
TZOFFSETFROM:+0100
TZOFFSETTO:+0000
TZNAME:GMT
DTSTART:20261025T010000
END:DAYLIGHT
BEGIN:STANDARD
TZOFFSETFROM:+0000
TZOFFSETTO:+0100
TZNAME:IST
DTSTART:20270328T010000
END:STANDARD
BEGIN:DAYLIGHT
TZOFFSETFROM:+0100
TZOFFSETTO:+0000
TZNAME:GMT
DTSTART:20271031T010000
END:DAYLIGHT
END:VTIMEZONE
BEGIN:VEVENT
DTSTART;TZID=Europe/Dublin:20260516T143000
DTEND;TZID=Europe/Dublin:20260516T163000
DTSTAMP:20260419T133854
CREATED:20260414T121423Z
LAST-MODIFIED:20260414T121423Z
UID:10003417-1778941800-1778949000@biodiversityweek.ie
SUMMARY:Crann Guided Walk Tullamore Lloyd Town Park & Talk in Library
DESCRIPTION:Crann – Trees for Ireland Directors\, PJ Fitzpatrick and Diarmuid McAree are delighted to lead a guided tree walk\, meeting at Tullamore Lloyd Town Park.  With a follow up talk in the Library. This FREE event will incorporate tree identification\, forest ecology and forest eco-therapy\, celebrating National Biodiversity Week 2026. Come join us and enjoy nature at its best!\nNational Biodiversity Week is organised by the Irish Environmental Network (IEN)\, with thanks to funding from the National Parks and Wildlife Service (NPWS). \nPLACES LIMITED – BOOKING ESSENTIAL – CONFIRM YOUR ATTENDENCE VIA EVENTBRITE LINK
URL:https://biodiversityweek.ie/event/crann-guided-walk-tullamore-lloyd-town-park-talk-in-library/
LOCATION:Lloyd Town Park\, Tullamore\, Co. Offaly\, 7\, 9 Cormac St\, Kilcruttin\, Tullamore\, Co. Offaly\, Tullamore
CATEGORIES:Family Friendly,Trees and Woodlands
ATTACH;FMTTYPE=image/jpeg:https://biodiversityweek.ie/wp-content/uploads/2026/04/Crann-Guided-Walks.jpg
END:VEVENT
END:VCALENDAR