BEGIN:VCALENDAR
VERSION:2.0
PRODID:-//National Biodiversity Week - ECPv6.15.17.1//NONSGML v1.0//EN
CALSCALE:GREGORIAN
METHOD:PUBLISH
X-WR-CALNAME:National Biodiversity Week
X-ORIGINAL-URL:https://biodiversityweek.ie
X-WR-CALDESC:Events for National Biodiversity Week
REFRESH-INTERVAL;VALUE=DURATION:PT1H
X-Robots-Tag:noindex
X-PUBLISHED-TTL:PT1H
BEGIN:VTIMEZONE
TZID:Europe/Dublin
BEGIN:STANDARD
TZOFFSETFROM:+0000
TZOFFSETTO:+0100
TZNAME:IST
DTSTART:20250330T010000
END:STANDARD
BEGIN:DAYLIGHT
TZOFFSETFROM:+0100
TZOFFSETTO:+0000
TZNAME:GMT
DTSTART:20251026T010000
END:DAYLIGHT
BEGIN:STANDARD
TZOFFSETFROM:+0000
TZOFFSETTO:+0100
TZNAME:IST
DTSTART:20260329T010000
END:STANDARD
BEGIN:DAYLIGHT
TZOFFSETFROM:+0100
TZOFFSETTO:+0000
TZNAME:GMT
DTSTART:20261025T010000
END:DAYLIGHT
BEGIN:STANDARD
TZOFFSETFROM:+0000
TZOFFSETTO:+0100
TZNAME:IST
DTSTART:20270328T010000
END:STANDARD
BEGIN:DAYLIGHT
TZOFFSETFROM:+0100
TZOFFSETTO:+0000
TZNAME:GMT
DTSTART:20271031T010000
END:DAYLIGHT
END:VTIMEZONE
BEGIN:VEVENT
DTSTART;TZID=Europe/Dublin:20260520T190000
DTEND;TZID=Europe/Dublin:20260520T210000
DTSTAMP:20260424T110431
CREATED:20260414T161606Z
LAST-MODIFIED:20260414T161606Z
UID:10003436-1779303600-1779310800@biodiversityweek.ie
SUMMARY:Where Bog and Woodland Meet
DESCRIPTION:Join the Irish Peatland Conservation Council and the Native Woodland Trust on a Biodiversity Walk around the beautiful Girley Bog \n\n\n\n\nJoin us as we celebrate National Biodiversity Week in visiting Girley Wood reserve and surrounding Girley Bog. We’re collaborating with the wonderful people at Irish Peatland Conservation Council for this event which promises to be fun and filled with information about peatlands and native woodlands. \nWe will be meeting at Girley Hall in Fordstown at 7 pm on Wednesday the 20th of May 2026 (Maps: https://maps.app.goo.gl/ji2w1mqYGtED7GJR9). \nWe will go for a nice walk past the Native Woodland Trust Girley Wood and around the boardwalk that goes through Girley Bog. This will be a great opportunity to get out on a Wednesday evening and to learn more about bog habitats and the various plants and animals that call this precious conservation area home. \nAll ages are welcome but please note\, we will be walking on uneven ground and along a boardwalk so this is not suitable for buggies. Anyone under the age of 18 will need to be accompanied by a parent or guardian. \nWhat to bring: \n\nWarm and waterproof clothing in layers\nHat and sunblock if it’s sunny!\nSturdy footwear\nPacked water and snacks\nAny medication you may need\n\nWhen we return to our cars\, will be providing tea\, coffee and biscuits. If you have a reusable coffee/tea cup\, please bring this along to minimize waste on the day. \nThere are no toilets on site. There is a toilet in the Top Oil Cloncat Service Station (Maps: https://goo.gl/maps/bJYEcFxF6psD1MmUA). However\, we cannot guarantee that the toilet will be in working order. The town of Kells is also nearby. \nCancellation Note: Events may be cancelled on short notice if there are adverse weather conditions or weather warnings in place. In the event that we do cancel an event on short notice\, we will send an email to inform you as early as possible. \nIf you book tickets but realise you will be unable to attend the event\, please let us know so we can make the ticket available for another person. \nWe look forward to you joining us on this biodiversity walk! \nNative Woodland Trust Contact: Jeremy Casey jeremy.casey@nativewoodlandtrust.ie \n+353871953629
URL:https://biodiversityweek.ie/event/where-bog-and-woodland-meet/
LOCATION:girley bog\, Girley Hall\, Fordstown
CATEGORIES:Citizen Science,Community Action,Family Friendly,Hedgerows,Rivers and Ponds,Wetlands,Wildflowers
ATTACH;FMTTYPE=image/jpeg:https://biodiversityweek.ie/wp-content/uploads/2026/04/BIO-Week-Girley-2.jpg
END:VEVENT
END:VCALENDAR