BEGIN:VCALENDAR
VERSION:2.0
PRODID:-//National Biodiversity Week - ECPv6.15.17.1//NONSGML v1.0//EN
CALSCALE:GREGORIAN
METHOD:PUBLISH
X-ORIGINAL-URL:https://biodiversityweek.ie
X-WR-CALDESC:Events for National Biodiversity Week
REFRESH-INTERVAL;VALUE=DURATION:PT1H
X-Robots-Tag:noindex
X-PUBLISHED-TTL:PT1H
BEGIN:VTIMEZONE
TZID:Europe/Dublin
BEGIN:STANDARD
TZOFFSETFROM:+0000
TZOFFSETTO:+0100
TZNAME:IST
DTSTART:20250330T010000
END:STANDARD
BEGIN:DAYLIGHT
TZOFFSETFROM:+0100
TZOFFSETTO:+0000
TZNAME:GMT
DTSTART:20251026T010000
END:DAYLIGHT
BEGIN:STANDARD
TZOFFSETFROM:+0000
TZOFFSETTO:+0100
TZNAME:IST
DTSTART:20260329T010000
END:STANDARD
BEGIN:DAYLIGHT
TZOFFSETFROM:+0100
TZOFFSETTO:+0000
TZNAME:GMT
DTSTART:20261025T010000
END:DAYLIGHT
BEGIN:STANDARD
TZOFFSETFROM:+0000
TZOFFSETTO:+0100
TZNAME:IST
DTSTART:20270328T010000
END:STANDARD
BEGIN:DAYLIGHT
TZOFFSETFROM:+0100
TZOFFSETTO:+0000
TZNAME:GMT
DTSTART:20271031T010000
END:DAYLIGHT
END:VTIMEZONE
BEGIN:VEVENT
DTSTART;TZID=Europe/Dublin:20260516T103000
DTEND;TZID=Europe/Dublin:20260516T123000
DTSTAMP:20260422T021310
CREATED:20260421T085412Z
LAST-MODIFIED:20260421T085412Z
UID:10003464-1778927400-1778934600@biodiversityweek.ie
SUMMARY:Streamscapes: The Bog Revealed/Derryconnell Bog Walk
DESCRIPTION:This field-based workshop will uncover the hidden wonders of bog ecosystems. Participants will explore the unique biodiversity\, ecological functions\, and conservation significance of bogs\, while exploring the Derreennatra Bog. Through interactive discussion\, and specimen observations\, attendees will gain an in-depth appreciation of these often-overlooked and under-appreciated landscapes. \nOn this walk you will learn to: \n● Understand the formation and ecological importance of bogs. \n● Identify key plant and animal species found in bog habitats. \n● Learn about conservation efforts to protect bog ecosystems. \nThe event is family friendly and children must be accompanied by an adult. We recommend dressing appropriately for this outdoor activity. \nMap pin: \nhttps://maps.app.goo.gl/eVtdjMR3J15Tb5Gq7 \nParking next to small pump house. We recommend car sharing. \nStreamScapes is a registered charity\, empowering schools and communities across Ireland to explore\, understand\, and protect their local waterways and biodiversity. \nBioFest is an independent community festival which celebrates the biodiversity of West Cork\, through workshops and events with the people who are working for its better future. BioFest is delivered through the collaborative efforts and support of The Green Economy Foundation. This event is funded by the IEN (Irish Environmental Network) as part of National Biodiversity Week. \nFor updates and more info on the weekend program visit www.instagram.com/biofestwestcork \n 
URL:https://biodiversityweek.ie/event/streamscapes-the-bog-revealed-derryconnell-bog-walk/
LOCATION:Durrus Road\, Derryconnell\, West Cork\, Durrus Road\, Derryconnell\, West Cork
CATEGORIES:Citizen Science,Community Action,Family Friendly,Wetlands
ATTACH;FMTTYPE=image/png:https://biodiversityweek.ie/wp-content/uploads/2026/04/The-Bog-Revealed-Cover-Photo.png
END:VEVENT
END:VCALENDAR