BEGIN:VCALENDAR
VERSION:2.0
PRODID:-//National Biodiversity Week - ECPv6.15.17.1//NONSGML v1.0//EN
CALSCALE:GREGORIAN
METHOD:PUBLISH
X-ORIGINAL-URL:https://biodiversityweek.ie
X-WR-CALDESC:Events for National Biodiversity Week
REFRESH-INTERVAL;VALUE=DURATION:PT1H
X-Robots-Tag:noindex
X-PUBLISHED-TTL:PT1H
BEGIN:VTIMEZONE
TZID:Europe/Dublin
BEGIN:STANDARD
TZOFFSETFROM:+0000
TZOFFSETTO:+0100
TZNAME:IST
DTSTART:20250330T010000
END:STANDARD
BEGIN:DAYLIGHT
TZOFFSETFROM:+0100
TZOFFSETTO:+0000
TZNAME:GMT
DTSTART:20251026T010000
END:DAYLIGHT
BEGIN:STANDARD
TZOFFSETFROM:+0000
TZOFFSETTO:+0100
TZNAME:IST
DTSTART:20260329T010000
END:STANDARD
BEGIN:DAYLIGHT
TZOFFSETFROM:+0100
TZOFFSETTO:+0000
TZNAME:GMT
DTSTART:20261025T010000
END:DAYLIGHT
BEGIN:STANDARD
TZOFFSETFROM:+0000
TZOFFSETTO:+0100
TZNAME:IST
DTSTART:20270328T010000
END:STANDARD
BEGIN:DAYLIGHT
TZOFFSETFROM:+0100
TZOFFSETTO:+0000
TZNAME:GMT
DTSTART:20271031T010000
END:DAYLIGHT
END:VTIMEZONE
BEGIN:VEVENT
DTSTART;TZID=Europe/Dublin:20260517T140000
DTEND;TZID=Europe/Dublin:20260517T153000
DTSTAMP:20260422T142400
CREATED:20260420T132635Z
LAST-MODIFIED:20260420T132635Z
UID:10003461-1779026400-1779031800@biodiversityweek.ie
SUMMARY:Our Irish Natural History at the Dead Zoo Lab
DESCRIPTION:Join us in the Dead Zoo Lab this National Biodiversity Week for a special drop-in event to meet the community curators behind Our Irish Natural History exhibition.\nJoin our community curators to find out about their featured specimens\, why they were selected for display in the Our Irish Natural History exhibition\, and the biodiversity work they are undertaking in their local areas. With members of the Irish Community Archive Network: Clarecastle & Ballyea Heritage & Wildlife Group\, Co. Clare; Milltown Heritage Group\, Co. Galway; Louisburgh-Killeen Heritage Group\, Co. Mayo and Glendalough Heritage Forum\, Co. Wicklow. \nDon’t miss Our Irish Natural History exhibition at the Dead Zoo Lab\, open until the end of May 2026.  \nThe Irish Community Archive Network (iCAN) is a National Museum of Ireland initiative that supports local volunteer groups to create their own digital community archive. iCAN is delivered in partnership with The Heritage Council\, Local Authority Heritage Officers and community volunteers in Ireland and abroad. Visit https://ouririshheritage.org for more information. \nNo Booking required. Wheelchair accessible. Children must be fully supervised by a parent or adult who is in loco parentis. \nIf you have any questions about this event please contact educationnh@museum.ie \nImage: Meadhbh Ruane (11) and her sister Fionnuala (12) from Belmont NS\, Milltown\, at the launch of Our Irish Natural History at the National Museum of Ireland\, Collins Barracks. Image: ICAN/Julien Behal.
URL:https://biodiversityweek.ie/event/our-irish-natural-history-at-the-dead-zoo-lab/
LOCATION:Dead Zoo Lab\, National Museum of Ireland\, Collins Barracks\, Benburb Street\, Dublin 7\, Dublin\, D07 XKV4
CATEGORIES:Accessible by Public Transport,Bats,Birds,Community Action,Trees and Woodlands,Wheelchair Accessible
ATTACH;FMTTYPE=image/jpeg:https://biodiversityweek.ie/wp-content/uploads/2026/04/NO-FEE-OUR-IRISH-NATURAL-HISTORY-JB4-1-scaled.jpg
END:VEVENT
END:VCALENDAR