BEGIN:VCALENDAR
VERSION:2.0
PRODID:-//National Biodiversity Week - ECPv6.15.17.1//NONSGML v1.0//EN
CALSCALE:GREGORIAN
METHOD:PUBLISH
X-ORIGINAL-URL:https://biodiversityweek.ie
X-WR-CALDESC:Events for National Biodiversity Week
REFRESH-INTERVAL;VALUE=DURATION:PT1H
X-Robots-Tag:noindex
X-PUBLISHED-TTL:PT1H
BEGIN:VTIMEZONE
TZID:Europe/Dublin
BEGIN:STANDARD
TZOFFSETFROM:+0000
TZOFFSETTO:+0100
TZNAME:IST
DTSTART:20250330T010000
END:STANDARD
BEGIN:DAYLIGHT
TZOFFSETFROM:+0100
TZOFFSETTO:+0000
TZNAME:GMT
DTSTART:20251026T010000
END:DAYLIGHT
BEGIN:STANDARD
TZOFFSETFROM:+0000
TZOFFSETTO:+0100
TZNAME:IST
DTSTART:20260329T010000
END:STANDARD
BEGIN:DAYLIGHT
TZOFFSETFROM:+0100
TZOFFSETTO:+0000
TZNAME:GMT
DTSTART:20261025T010000
END:DAYLIGHT
BEGIN:STANDARD
TZOFFSETFROM:+0000
TZOFFSETTO:+0100
TZNAME:IST
DTSTART:20270328T010000
END:STANDARD
BEGIN:DAYLIGHT
TZOFFSETFROM:+0100
TZOFFSETTO:+0000
TZNAME:GMT
DTSTART:20271031T010000
END:DAYLIGHT
END:VTIMEZONE
BEGIN:VEVENT
DTSTART;TZID=Europe/Dublin:20260516T090000
DTEND;TZID=Europe/Dublin:20260516T110000
DTSTAMP:20260423T164036
CREATED:20260423T101519Z
LAST-MODIFIED:20260423T142604Z
UID:10003475-1778922000-1778929200@biodiversityweek.ie
SUMMARY:Moths of the ecovillage: early morning moth exploration
DESCRIPTION:We will be opening a moth trap that has been out overnight and identifying\, recording and safely releasing the moths back into their natural habitat. There will be an opportunity to see the moths up close\, take photographs and hear a little about their flight times\, habitat and food plants. We will start at 9am and finish time is dependent on how many moths are in the trap. We estimate finishing sometime between 10 and 11am. \nPlease book ahead so that we can let you know if we need to postpone the date\, as as moth trapping is weather dependent.\nEmail penfitzgerald@gmail.com with “Meet Ecovillage Moths” in the heading.
URL:https://biodiversityweek.ie/event/moths-of-the-ecovillage-early-morning-moth-exploration/
LOCATION:Cloughjordan Ecovillage\, The Carpark near Willow Labyrinth\, Cloughjordan Ecovillage\, E53 VP86
CATEGORIES:Butterflies and Moths
ATTACH;FMTTYPE=image/jpeg:https://biodiversityweek.ie/wp-content/uploads/2026/04/Moth.jpg
END:VEVENT
BEGIN:VEVENT
DTSTART;TZID=Europe/Dublin:20260523T160000
DTEND;TZID=Europe/Dublin:20260523T170000
DTSTAMP:20260423T164036
CREATED:20260423T101553Z
LAST-MODIFIED:20260423T142841Z
UID:10003474-1779552000-1779555600@biodiversityweek.ie
SUMMARY:Medicinal walk with dr. Su Huschke
DESCRIPTION:The medicines are growing right under our feet! You are invited to share your own knowledge\, experiences and stories about the plants we encounter. We will go for a short walk (max 500 m) around the area\, discovering weeds and wild plants with medicinal properties. We will be going at a slow pace\, and children are very welcome.
URL:https://biodiversityweek.ie/event/medicinal-walk-with-dr-su-huschke/
LOCATION:Cloughjordan Ecovillage\, The Carpark near Willow Labyrinth\, Cloughjordan Ecovillage\, E53 VP86
CATEGORIES:For Kids,Health,Trees and Woodlands,Wildflowers
ATTACH;FMTTYPE=image/jpeg:https://biodiversityweek.ie/wp-content/uploads/2026/04/Medicinal-walk-scaled.jpeg
END:VEVENT
END:VCALENDAR