BEGIN:VCALENDAR
VERSION:2.0
PRODID:-//National Biodiversity Week - ECPv6.15.17.1//NONSGML v1.0//EN
CALSCALE:GREGORIAN
METHOD:PUBLISH
X-WR-CALNAME:National Biodiversity Week
X-ORIGINAL-URL:https://biodiversityweek.ie
X-WR-CALDESC:Events for National Biodiversity Week
REFRESH-INTERVAL;VALUE=DURATION:PT1H
X-Robots-Tag:noindex
X-PUBLISHED-TTL:PT1H
BEGIN:VTIMEZONE
TZID:Europe/Dublin
BEGIN:STANDARD
TZOFFSETFROM:+0000
TZOFFSETTO:+0100
TZNAME:IST
DTSTART:20250330T010000
END:STANDARD
BEGIN:DAYLIGHT
TZOFFSETFROM:+0100
TZOFFSETTO:+0000
TZNAME:GMT
DTSTART:20251026T010000
END:DAYLIGHT
BEGIN:STANDARD
TZOFFSETFROM:+0000
TZOFFSETTO:+0100
TZNAME:IST
DTSTART:20260329T010000
END:STANDARD
BEGIN:DAYLIGHT
TZOFFSETFROM:+0100
TZOFFSETTO:+0000
TZNAME:GMT
DTSTART:20261025T010000
END:DAYLIGHT
BEGIN:STANDARD
TZOFFSETFROM:+0000
TZOFFSETTO:+0100
TZNAME:IST
DTSTART:20270328T010000
END:STANDARD
BEGIN:DAYLIGHT
TZOFFSETFROM:+0100
TZOFFSETTO:+0000
TZNAME:GMT
DTSTART:20271031T010000
END:DAYLIGHT
END:VTIMEZONE
BEGIN:VEVENT
DTSTART;TZID=Europe/Dublin:20260516T103000
DTEND;TZID=Europe/Dublin:20260516T120000
DTSTAMP:20260419T132900
CREATED:20260402T100413Z
LAST-MODIFIED:20260402T100413Z
UID:10001529-1778927400-1778932800@biodiversityweek.ie
SUMMARY:Who Lives Here?
DESCRIPTION:Theme: Celebrating Irish biodiversity through the hidden clues wildlife leaves behind. \nThis event invites participants to become detectives and discover the wildlife all around us. Even though we may not see them\, they leave tracks and signs that tell us they are there. As wildlife detectives we will examine feeding remains\, foot prints and scenarios and learn how to identify common Irish species while exploring how animals communicate\, travel\, feed\, and interact with their habitats. \nThe aim is to build ecological awareness\, spark curiosity and encourage people to record findings in their local area. Delivered by an experienced wildlife educator\, this workshop is designed to be inclusive\, engaging and suitable for mixed ages. \n 
URL:https://biodiversityweek.ie/event/who-lives-here/
LOCATION:Civic Centre\, Seaview Terrace\, Bettystown\, A92 AEC6
CATEGORIES:Accessible by Public Transport,Citizen Science,Family Friendly
ATTACH;FMTTYPE=image/jpeg:https://biodiversityweek.ie/wp-content/uploads/2026/04/2026.jpg
END:VEVENT
END:VCALENDAR