BEGIN:VCALENDAR
VERSION:2.0
PRODID:-//National Biodiversity Week - ECPv6.15.17.1//NONSGML v1.0//EN
CALSCALE:GREGORIAN
METHOD:PUBLISH
X-ORIGINAL-URL:https://biodiversityweek.ie
X-WR-CALDESC:Events for National Biodiversity Week
REFRESH-INTERVAL;VALUE=DURATION:PT1H
X-Robots-Tag:noindex
X-PUBLISHED-TTL:PT1H
BEGIN:VTIMEZONE
TZID:Europe/Dublin
BEGIN:STANDARD
TZOFFSETFROM:+0000
TZOFFSETTO:+0100
TZNAME:IST
DTSTART:20250330T010000
END:STANDARD
BEGIN:DAYLIGHT
TZOFFSETFROM:+0100
TZOFFSETTO:+0000
TZNAME:GMT
DTSTART:20251026T010000
END:DAYLIGHT
BEGIN:STANDARD
TZOFFSETFROM:+0000
TZOFFSETTO:+0100
TZNAME:IST
DTSTART:20260329T010000
END:STANDARD
BEGIN:DAYLIGHT
TZOFFSETFROM:+0100
TZOFFSETTO:+0000
TZNAME:GMT
DTSTART:20261025T010000
END:DAYLIGHT
BEGIN:STANDARD
TZOFFSETFROM:+0000
TZOFFSETTO:+0100
TZNAME:IST
DTSTART:20270328T010000
END:STANDARD
BEGIN:DAYLIGHT
TZOFFSETFROM:+0100
TZOFFSETTO:+0000
TZNAME:GMT
DTSTART:20271031T010000
END:DAYLIGHT
END:VTIMEZONE
BEGIN:VEVENT
DTSTART;TZID=Europe/Dublin:20260518T180000
DTEND;TZID=Europe/Dublin:20260518T190000
DTSTAMP:20260423T115718
CREATED:20260414T142319Z
LAST-MODIFIED:20260416T111858Z
UID:10001604-1779127200-1779130800@biodiversityweek.ie
SUMMARY:Exploring Lodge Bog
DESCRIPTION:Join the IPCC to explore Lodge Bog and all the species that call it home. Lodge bog is a raised bog that has been restored and conserved for biodiversity. Meet at the Bog of Allen Nature Centre at 6pm and enjoy a guided walk with IPCC staff who will share information about the bog\, its importance\, plant and animal species on the bog and its restoration. Please wear clothes appropriate for the outdoors. No booking required.
URL:https://biodiversityweek.ie/event/exploring-lodge-bog/
LOCATION:Bog of Allen Nature Centre\, Bog of Allen Nature Centre\, Lullymore\, Rathangan\, R51 v293
CATEGORIES:Rivers and Ponds,Wetlands
ATTACH;FMTTYPE=image/jpeg:https://biodiversityweek.ie/wp-content/uploads/2026/04/Lodge-boardwalk-20.06.24-LC-1-scaled.jpg
END:VEVENT
BEGIN:VEVENT
DTSTART;TZID=Europe/Dublin:20260519T110000
DTEND;TZID=Europe/Dublin:20260519T123000
DTSTAMP:20260423T115718
CREATED:20260414T142233Z
LAST-MODIFIED:20260414T142953Z
UID:10001605-1779188400-1779193800@biodiversityweek.ie
SUMMARY:Beautiful Butterflies of Lullymore West
DESCRIPTION:Join the IPCC for a free butterfly walk on Lullymore West Nature Reserve. Lullymore West Nature Reserve is an example of a cutaway bog that has regenerated into a refuge for biodiversity\, especially butterflies. 21 different species of butterfly are found on Lullymore West Bog\, out of a total Irish species list of 31 including the protected species the Marsh Fritillary butterfly. Meet at the Bog of Allen Nature Centre at 11am and join IPCC staff for a walk to Lullymore West where we will share information of the reserve and the butterflies who live there. You will also get to give butterfly identification a go with IPCCs Bonding with Butterflies identification leaflet. Please wear clothes appropriate for the outdoors. Light refreshments will be available following the walk and talk. No booking required.
URL:https://biodiversityweek.ie/event/beautiful-butterflies-of-lullymore-west/
LOCATION:Bog of Allen Nature Centre\, Bog of Allen Nature Centre\, Lullymore\, Rathangan\, R51 v293
CATEGORIES:Butterflies and Moths,Family Friendly,Wetlands
ATTACH;FMTTYPE=image/jpeg:https://biodiversityweek.ie/wp-content/uploads/2026/04/Brimstone-2-Lullymore-03.04.24-LC-scaled.jpg
END:VEVENT
END:VCALENDAR