BEGIN:VCALENDAR
VERSION:2.0
PRODID:-//National Biodiversity Week - ECPv6.15.17.1//NONSGML v1.0//EN
CALSCALE:GREGORIAN
METHOD:PUBLISH
X-WR-CALNAME:National Biodiversity Week
X-ORIGINAL-URL:https://biodiversityweek.ie
X-WR-CALDESC:Events for National Biodiversity Week
REFRESH-INTERVAL;VALUE=DURATION:PT1H
X-Robots-Tag:noindex
X-PUBLISHED-TTL:PT1H
BEGIN:VTIMEZONE
TZID:Europe/Dublin
BEGIN:STANDARD
TZOFFSETFROM:+0000
TZOFFSETTO:+0100
TZNAME:IST
DTSTART:20250330T010000
END:STANDARD
BEGIN:DAYLIGHT
TZOFFSETFROM:+0100
TZOFFSETTO:+0000
TZNAME:GMT
DTSTART:20251026T010000
END:DAYLIGHT
BEGIN:STANDARD
TZOFFSETFROM:+0000
TZOFFSETTO:+0100
TZNAME:IST
DTSTART:20260329T010000
END:STANDARD
BEGIN:DAYLIGHT
TZOFFSETFROM:+0100
TZOFFSETTO:+0000
TZNAME:GMT
DTSTART:20261025T010000
END:DAYLIGHT
BEGIN:STANDARD
TZOFFSETFROM:+0000
TZOFFSETTO:+0100
TZNAME:IST
DTSTART:20270328T010000
END:STANDARD
BEGIN:DAYLIGHT
TZOFFSETFROM:+0100
TZOFFSETTO:+0000
TZNAME:GMT
DTSTART:20271031T010000
END:DAYLIGHT
END:VTIMEZONE
BEGIN:VEVENT
DTSTART;TZID=Europe/Dublin:20260515T090000
DTEND;TZID=Europe/Dublin:20260524T170000
DTSTAMP:20260423T130421
CREATED:20260414T135914Z
LAST-MODIFIED:20260414T135914Z
UID:10003420-1778835600-1779642000@biodiversityweek.ie
SUMMARY:Crann – Trees for Ireland will be celebrating Books and Trees in Roscrea\, Tipperary
DESCRIPTION:Crann – Trees for Ireland will be celebrating Books and Trees throughout National Biodiversity Week 15th to 24th May 2026\, with the help of George Cunningham in Roscrea\, Co. Tipperary. \nThere will be various biodiversity talks\, workshops and planting potted trees with schools and the local Roscrea community throughout the week.  Come and join us or check out events in your own local area. \nThe Whole Week: Dimmas Books at SVP Roscrea: Display of biodiversity publications; special offers on these books during the week. \n3 School Talks to Senior Pupils on Biodiversity.  Trees acquired from Trees on the Land potted up and presented to senior pupils. Also plant a memorial tree in honour of 6th class. Coolderry Central School\, Brosna Birr – Sacred Heart Primary School Roscrea – Cloughjordan No 1 NS. \nPublic participation with trees will take place through Tidy Towns. \nNational Biodiversity Week 15th – 24th May 2026 is all about connecting people with nature. It’s about communicating the importance of biodiversity and motivating people to play their part in protecting it. It’s also about entertaining them\, showing the fun and wonder that can be found in nature\, and inspiring people to learn more\, see more\, do more. \nNational Biodiversity Week is organised by the Irish Environmental Network (IEN)\, with thanks to funding from the National Parks and Wildlife Service (NPWS).
URL:https://biodiversityweek.ie/event/crann-trees-for-ireland-will-be-celebrating-books-and-trees-in-roscrea-tipperary/
LOCATION:Dimmas Books at SVP Roscrea\, Co. Tipperary\, Church Street\, Roscrea\, Co. Tipperary\, Roscrea
CATEGORIES:Community Action,Suitable for Schools,Trees and Woodlands
ATTACH;FMTTYPE=image/jpeg:https://biodiversityweek.ie/wp-content/uploads/2026/04/Sacred-Heart-Sch-Roscrea-Tree-Planting.jpg
END:VEVENT
BEGIN:VEVENT
DTSTART;TZID=Europe/Dublin:20260520T180000
DTEND;TZID=Europe/Dublin:20260520T190000
DTSTAMP:20260423T130421
CREATED:20260414T144844Z
LAST-MODIFIED:20260414T144844Z
UID:10001599-1779300000-1779303600@biodiversityweek.ie
SUMMARY:New study into Irelands wildlife.
DESCRIPTION:Join Dr Adam F Smith from the UCD laboratory of Wildlife Ecology and Behaviour for an insight into tracking and monitoring Ireland’s mammals as part of the Snapshot Europe project\, and what it means for conservation and management of our landscapes and biodiversity from overabundant deer to elusive small carnivores.
URL:https://biodiversityweek.ie/event/new-study-into-irelands-wildlife/
LOCATION:The Organic Centre\, Sraud\, Rossinver\, F91H978\, Ireland
CATEGORIES:Accessible by Public Transport,Citizen Science,Mammals,Suitable for Schools,Trees and Woodlands
END:VEVENT
END:VCALENDAR