BEGIN:VCALENDAR
VERSION:2.0
PRODID:-//National Biodiversity Week - ECPv6.15.17.1//NONSGML v1.0//EN
CALSCALE:GREGORIAN
METHOD:PUBLISH
X-ORIGINAL-URL:https://biodiversityweek.ie
X-WR-CALDESC:Events for National Biodiversity Week
REFRESH-INTERVAL;VALUE=DURATION:PT1H
X-Robots-Tag:noindex
X-PUBLISHED-TTL:PT1H
BEGIN:VTIMEZONE
TZID:Europe/Dublin
BEGIN:STANDARD
TZOFFSETFROM:+0000
TZOFFSETTO:+0100
TZNAME:IST
DTSTART:20250330T010000
END:STANDARD
BEGIN:DAYLIGHT
TZOFFSETFROM:+0100
TZOFFSETTO:+0000
TZNAME:GMT
DTSTART:20251026T010000
END:DAYLIGHT
BEGIN:STANDARD
TZOFFSETFROM:+0000
TZOFFSETTO:+0100
TZNAME:IST
DTSTART:20260329T010000
END:STANDARD
BEGIN:DAYLIGHT
TZOFFSETFROM:+0100
TZOFFSETTO:+0000
TZNAME:GMT
DTSTART:20261025T010000
END:DAYLIGHT
BEGIN:STANDARD
TZOFFSETFROM:+0000
TZOFFSETTO:+0100
TZNAME:IST
DTSTART:20270328T010000
END:STANDARD
BEGIN:DAYLIGHT
TZOFFSETFROM:+0100
TZOFFSETTO:+0000
TZNAME:GMT
DTSTART:20271031T010000
END:DAYLIGHT
END:VTIMEZONE
BEGIN:VEVENT
DTSTART;TZID=Europe/Dublin:20260522T130000
DTEND;TZID=Europe/Dublin:20260522T140000
DTSTAMP:20260422T143539
CREATED:20260414T142149Z
LAST-MODIFIED:20260414T142941Z
UID:10001606-1779454800-1779458400@biodiversityweek.ie
SUMMARY:Lunchtime with the IPCC : Bogland Flora and Fauna – Adaptations to living on their wet and wild peatland habitat
DESCRIPTION:Join the IPCC for an online talk of Bogland Flora and Fauna. The plants and animals that make bogs their home have learned to thrive in their wet and wild conditions. This talk will explore these plants and animals and their adaptations. Register for this online talk on Eventbrite here. 
URL:https://biodiversityweek.ie/event/lunchtime-with-the-ipcc-bogland-flora-and-fauna-adaptations-to-living-on-their-wet-and-wild-peatland-habitat/
CATEGORIES:Bees and Pollinators,Birds,Butterflies and Moths,Insects,Mammals,Wetlands,Wildflowers
ATTACH;FMTTYPE=image/png:https://biodiversityweek.ie/wp-content/uploads/2026/04/Screenshot-2026-03-19-at-11.14.29-scaled.png
END:VEVENT
BEGIN:VEVENT
DTSTART;TZID=Europe/Dublin:20260522T150000
DTEND;TZID=Europe/Dublin:20260522T170000
DTSTAMP:20260422T143539
CREATED:20260414T145247Z
LAST-MODIFIED:20260414T145247Z
UID:10001596-1779462000-1779469200@biodiversityweek.ie
SUMMARY:Community gardens for biodiversity - Blanchardstown
DESCRIPTION:Join us in GLAS @ TU Dublin community garden to learn more about gardening for biodiversity! \n\n\n\n\nGLAS @ TU Dublin supports people and nature to flourish\, and to grow community\, connection and biodiversity. In this special workshop for Biodiversity Week 2026\, our gardener Lee will demonstrate how this shared\, voluntary space aims to cultivate and nourish life throughout the year\, and will share some tips and tricks for supporting biodiversity in your own garden!
URL:https://biodiversityweek.ie/event/community-gardens-for-biodiversity-blanchardstown/
LOCATION:GLAS @ TU Dublin\, GLAS @ TU Dublin Blanchardstown\, near the LINC Building\, Dublin\, CJ4C+MJC Dublin\, Ireland
CATEGORIES:Bees and Pollinators,Butterflies and Moths,Community Action,Family Friendly,Garden,Health
ATTACH;FMTTYPE=image/jpeg:https://biodiversityweek.ie/wp-content/uploads/2026/04/2.jpg
END:VEVENT
BEGIN:VEVENT
DTSTART;TZID=Europe/Dublin:20260523T103000
DTEND;TZID=Europe/Dublin:20260523T130000
DTSTAMP:20260422T143539
CREATED:20260414T161450Z
LAST-MODIFIED:20260414T161450Z
UID:10003437-1779532200-1779541200@biodiversityweek.ie
SUMMARY:Guided Woodland Wander at Gracedieu Wood with the Native Woodland Trust (Waterford)
DESCRIPTION:Guided walk at Gracedieu Wood: explore wildflowers\, insects & native trees along the Waterford Greenway. Free & for families \n\n\n\n\n🌿 Native Woodland Wander\nGuided Biodiversity Walk at Gracedieu Wood \nJoin the Native Woodland Trust this National Biodiversity Week 2026 for a guided walk through the evolving habitats of Gracedieu Native Woodland Reserve\, accessible along the Waterford Greenway. \nThis relaxed\, family‑friendly walk begins at Bilberry Carpark and follows the Greenway towards Gracedieu Wood. Along the way\, we’ll pause to take in the sights\, sounds and smells of nature — from wildflowers and the insects that visit them\, to shrubs\, young native trees and towering veteran trees that form the scaffolding of Ireland’s woodland ecosystems. \nLed by Jeremy Casey\, this walk offers a chance to explore a native woodland reserve that is still being planted and shaped\, highlighting how woodlands grow\, develop and support biodiversity over time. \nOnce at the reserve\, we’ll stop to enjoy a picnic lunch with tea and coffee\, before making our way back to Bilberry Carpark. \n🌳 What you’ll explore\n\nEstablishing and mature native woodland habitats\nWildflowers\, insects and woodland understorey species\nHow native woodlands support biodiversity\nThe role of restoration and long‑term stewardship\n\n👨‍👩‍👧‍👦 Who is this for?\n\nAll ages welcome\nChildren under 18 must be accompanied and supervised by a parent or guardian\nSuitable for families\, walkers and nature enthusiasts\n\n📍 Event Details\nDate: Saturday 23rd May 2026\nTime: 10:30am – 1:30pm\nMeeting Point: Bilberry Carpark\n👉 https://maps.app.goo.gl/1hFW2Fy27eGGZWXm7\nTickets: Free (booking required) \n🥾 What to bring\n\nField guides (birds\, wildflowers\, insects\, etc.)\nBinoculars (if you have them)\nWarm\, waterproof layered clothing\nSturdy walking shoes\nWater\, snacks and a packed lunch\nAny medication you require\nSunblock and a hat for warmer days\n\n☕ Tea\, coffee and biscuits will be provided. Please bring a reusable cup to help minimise waste. \n🚻 Bathroom Facilities\nThere are no bathroom facilities on site.\nPlease make a rest stop at services or public toilets before arriving. \n⚠️ Important Information\n\nThis is an outdoor walk along the Greenway and woodland paths\nEvents may be cancelled at short notice due to adverse weather or weather warnings\nIf cancelled\, participants will be notified by email as early as possible\n\n📩 Contact (on the day)\nNative Woodland Trust\nJeremy Casey\n📧 jeremy.casey@nativewoodlandtrust.ie
URL:https://biodiversityweek.ie/event/guided-woodland-wander-at-gracedieu-wood-with-the-native-woodland-trust-waterford/
LOCATION:Gracedieu Native Woodland\, Gracedieu West\, Waterford\, Co Waterford\, Bilberry Carpark\, Waterford
CATEGORIES:Accessible by Public Transport,Bees and Pollinators,Butterflies and Moths,Community Action,Family Friendly,Hedgerows,Trees and Woodlands
ATTACH;FMTTYPE=image/jpeg:https://biodiversityweek.ie/wp-content/uploads/2026/04/BIO-Week-Gracedieu.jpg
END:VEVENT
BEGIN:VEVENT
DTSTART;TZID=Europe/Dublin:20260523T130000
DTEND;TZID=Europe/Dublin:20260523T150000
DTSTAMP:20260422T143539
CREATED:20260403T131938Z
LAST-MODIFIED:20260403T131938Z
UID:10001540-1779541200-1779548400@biodiversityweek.ie
SUMMARY:Bóthar Na Naomh Biodiversity Cycle - Leitrim Cycling Festival
DESCRIPTION:Leitrim Cycling Festival\, as part of its 10th year celebrations is organising a Biodiversity Cycle around the looped trail of Bothar na Naomh in Cloone on Saturday 23rd May. The trail was developed by the community to allow locals and visitors to enjoy the limestone area of riverbanks\, woodlands\, bog and lakeshore. Yosef Dvores\, ecologist and co-founder of Our Native Glens environmental group will lead the cycle. Refreshments will be served in Cloone for all involved.
URL:https://biodiversityweek.ie/event/bothar-na-naomh-biodiversity-cycle-leitrim-cycling-festival/
LOCATION:Bóthar Na Naomh\, Cloone
CATEGORIES:Bees and Pollinators,Birds,Community Action,Family Friendly,For Kids,Trees and Woodlands
ATTACH;FMTTYPE=image/jpeg:https://biodiversityweek.ie/wp-content/uploads/2026/04/Cloone-Cycle.jpeg
END:VEVENT
BEGIN:VEVENT
DTSTART;TZID=Europe/Dublin:20260523T140000
DTEND;TZID=Europe/Dublin:20260523T153000
DTSTAMP:20260422T143539
CREATED:20260414T145356Z
LAST-MODIFIED:20260414T145356Z
UID:10001594-1779544800-1779550200@biodiversityweek.ie
SUMMARY:Basket for bees.
DESCRIPTION:Baskets for Bees: Join the Organic Centres Head Gardener\, Aaron McGowan\, for a hands-on session where you’ll plant bee friendly hanging baskets that help support our buzzing pollinators. Go away with a flower and herb basket. Extremely limited places\, waiting list in operation. (Please ensure if you book and are unable to attend that you release your ticket\, as this event is extremely popular)
URL:https://biodiversityweek.ie/event/basket-for-bees/
LOCATION:The Organic Centre\, Sraud\, Rossinver\, F91H978\, Ireland
CATEGORIES:Accessible by Public Transport,Bees and Pollinators,Family Friendly
ATTACH;FMTTYPE=image/jpeg:https://biodiversityweek.ie/wp-content/uploads/2026/04/IMG_1378-scaled.jpg
END:VEVENT
BEGIN:VEVENT
DTSTART;TZID=Europe/Dublin:20260523T173000
DTEND;TZID=Europe/Dublin:20260523T190000
DTSTAMP:20260422T143539
CREATED:20260404T121028Z
LAST-MODIFIED:20260420T161605Z
UID:10001559-1779557400-1779562800@biodiversityweek.ie
SUMMARY:Hedgerows\, a Biodiversity Lifeline
DESCRIPTION:Myross Woods\, located near Leap in West Cork\, is a wildlife haven. The 30-acre site features ancient woodland and a coastal estuary managed by Green Skibbereen who run CECAS (Centre of Excellence for Climate Action and Sustainability) at Myross Woods House\, a community-powered hub. Stitching these habitats together are hedgerow plants – hawthorn\, bramble\, holly\, nettle. This living network provides shelter\, food\, navigation and connectivity for birds\, mammals\, insects\, and wildflowers.  \nOn this immersive walk\, the Irish Wildlife Trust join the CECAS team to discuss some of the communities of wildlife that rely on hedgerows and explore the history and cultural significance of these liminal spaces. We will also take a look at examples of the damage caused by invasive species and what can be done to reverse this.  \nThis event is a joint collaboration between the Irish Wildlife Trust\, CECAS\, and Green Skibbereen CLG\, which was established to address the challenge of moving to low carbon energy through actively engaging\, educating and facilitating a whole community approach throughout Skibbereen and West Cork. \nBooking essential: https://cecas.ie/
URL:https://biodiversityweek.ie/event/hedgerows-a-biodiversity-lifeline/
CATEGORIES:Accessible by Public Transport,Bees and Pollinators,Community Action,Family Friendly,Hedgerows,Trees and Woodlands
ATTACH;FMTTYPE=image/jpeg:https://biodiversityweek.ie/wp-content/uploads/2026/04/Myross-Woods-House-and-Reserve-P81-Y192-Mc2-Photography-101-scaled.jpg
END:VEVENT
BEGIN:VEVENT
DTSTART;TZID=Europe/Dublin:20260524T120000
DTEND;TZID=Europe/Dublin:20260524T130000
DTSTAMP:20260422T143539
CREATED:20260404T121147Z
LAST-MODIFIED:20260404T121147Z
UID:10001560-1779624000-1779627600@biodiversityweek.ie
SUMMARY:Introducing wildlife photography and day in the life of Fionn O' Donoghue
DESCRIPTION:Join popular wildlife influencer & enthusiast Fionn O’Donoghue as he will give you an introduction to wildlife photography\, a day in his life as an Ecologist\, and why he sees nature as so important for all of us.
URL:https://biodiversityweek.ie/event/introducing-wildlife-photography-and-day-in-the-life-of-fionn-o-donoghue/
LOCATION:The Organic Centre\, Sraud\, Rossinver\, F91H978\, Ireland
CATEGORIES:Bees and Pollinators,Coastlines and Marine,Mammals
ATTACH;FMTTYPE=image/jpeg:https://biodiversityweek.ie/wp-content/uploads/2026/04/Fionn_5-1.jpg
END:VEVENT
BEGIN:VEVENT
DTSTART;TZID=Europe/Dublin:20260524T140000
DTEND;TZID=Europe/Dublin:20260524T160000
DTSTAMP:20260422T143539
CREATED:20260404T120852Z
LAST-MODIFIED:20260404T120852Z
UID:10001557-1779631200-1779638400@biodiversityweek.ie
SUMMARY:The wonder of Trees\, Butterflies and Bees.
DESCRIPTION:“The Wonder of Trees\, Butterflies & Bees\n\nA guided walk with Nature Educator Fiona Wheeldon. We will walk around the grounds of the Organic Centre and nearby section of Glenaniff River Walk. Learn all about our common trees\, butterflies and bees and their life stories. “
URL:https://biodiversityweek.ie/event/the-wonder-of-trees-butterflies-and-bees/
LOCATION:The Organic Centre\, Sraud\, Rossinver\, F91H978\, Ireland
CATEGORIES:Accessible by Public Transport,Bats,Bees and Pollinators
ATTACH;FMTTYPE=image/jpeg:https://biodiversityweek.ie/wp-content/uploads/2026/04/fiona.jpg
END:VEVENT
BEGIN:VEVENT
DTSTART;TZID=Europe/Dublin:20260524T140000
DTEND;TZID=Europe/Dublin:20260524T163000
DTSTAMP:20260422T143539
CREATED:20260416T111149Z
LAST-MODIFIED:20260416T111149Z
UID:10003447-1779631200-1779640200@biodiversityweek.ie
SUMMARY:Skibbereen Biodiversity Cycle Tour
DESCRIPTION:Join a guided cycle to various gardens and biodiverse spots within Skibbereen. Environmental Scientist\, Jacinta French will lead an enjoyable and informative tour.  This cycle will be at a gentle pace and include refreshments. Meeting at the Courthouse carpark Skibbereen.
URL:https://biodiversityweek.ie/event/skibbereen-biodiversity-cycle-tour/
CATEGORIES:Bees and Pollinators,Family Friendly,Garden,Wildflowers
ATTACH;FMTTYPE=image/png:https://biodiversityweek.ie/wp-content/uploads/2026/04/Photo-collage-made-at-2026-04-16_09-09-55-1-scaled.png
END:VEVENT
END:VCALENDAR