BEGIN:VCALENDAR
VERSION:2.0
PRODID:-//Biodiversity Week - ECPv4.5.1//NONSGML v1.0//EN
CALSCALE:GREGORIAN
METHOD:PUBLISH
X-WR-CALNAME:Biodiversity Week
X-ORIGINAL-URL:http://biodiversityweek.ie
X-WR-CALDESC:Events for Biodiversity Week
BEGIN:VEVENT
DTSTART;TZID=Europe/Dublin:20170527T110000
DTEND;TZID=Europe/Dublin:20170527T153000
DTSTAMP:20171030T202103
CREATED:20170505T192945Z
LAST-MODIFIED:20170516T122707Z
UID:1793-1495882800-1495899000@biodiversityweek.ie
SUMMARY:Discover your local Marine Biodiversity @ Grattan Shore
DESCRIPTION:Join us on Grattan Shore for a free public event to celebrate National Biodiversity Week and Marine Month @ Galway Atlantaquaria.\n\nThis event\, which will be carried out in collaboration the Irish Whale and Dolphin Group\, will celebrate Irish Marine Biodiversity.\n\nTake part in seashore exploration and whale and dolphin info sessions\, which will run every half an hour between 11.20 am -3.30 pm on Saturday\, 27th of May.\n\nThe event is free and will be suitable for all ages.
URL:http://biodiversityweek.ie/event/discover-your-local-marine-biodiversity-grattan-shore/
LOCATION:Salthill\, Galway\, Ireland
GEO:53.2625652;-9.0704274
X-APPLE-STRUCTURED-LOCATION;VALUE=URI;X-ADDRESS=Salthill Galway Ireland;X-APPLE-RADIUS=500;X-TITLE=Salthill:geo:-9.0704274,53.2625652
ATTACH;FMTTYPE=image/jpeg:http://biodiversityweek.ie/wp/wp-content/uploads/2017/05/18423740_10155266431628431_1596471726877332396_n.jpg
ORGANIZER;CN="Lorraine%20Bull%2C%20Irish%20Whale%20%26%20Dolphin%20Group":MAILTO:generalmanager@iwdg.ie
END:VEVENT
END:VCALENDAR