BEGIN:VCALENDAR
VERSION:2.0
PRODID:-//Biodiversity Week - ECPv4.5.1//NONSGML v1.0//EN
CALSCALE:GREGORIAN
METHOD:PUBLISH
X-WR-CALNAME:Biodiversity Week
X-ORIGINAL-URL:http://biodiversityweek.ie
X-WR-CALDESC:Events for Biodiversity Week
BEGIN:VEVENT
DTSTART;TZID=Europe/Dublin:20170528T113000
DTEND;TZID=Europe/Dublin:20170528T140000
DTSTAMP:20171030T200426
CREATED:20170508T162845Z
LAST-MODIFIED:20170525T105713Z
UID:1967-1495971000-1495980000@biodiversityweek.ie
SUMMARY:Coastal Biodiversity Walk at The Wicklow Murrough
DESCRIPTION:Join the Irish Wildlife Trust in exploring the coastal biodiversity of Broad Lough and the Murrough wetlands. Broad Lough is an intertidal Lough fed by the Vartry River and draining to sea at Wicklow Harbour. A walk along the shore will provide the visitor with views of a great variety of waterbirds and the chance to see Otters fishing and playing in the Lough. \nThe coastal walk is dominated by an extensive ridge of shingle which forms a natural barrier from the sea and carries the main Dublin to Rosslare railway line. Inland of this ridge we will enjoy wild habitats such as salt marshes\, mudflats\, freshwater and brackish marshes\, reed beds\, wet grasslands\, wet woodland\, and alkaline fen.  \nAdequate rain gear and suitable footwear is advisable. The walk is on a coastal path with rough terrain at times.\nMeeting place: Wicklow Train Station
URL:http://biodiversityweek.ie/event/coastal-biodiversity-walk-at-the-wicklow-murrough/
LOCATION:Wicklow Town\, Co Wicklow
GEO:52.9808207;-6.044589
X-APPLE-STRUCTURED-LOCATION;VALUE=URI;X-ADDRESS=Wicklow Town Co Wicklow;X-APPLE-RADIUS=500;X-TITLE=Wicklow Town:geo:-6.044589,52.9808207
ATTACH;FMTTYPE=image/jpeg:http://biodiversityweek.ie/wp/wp-content/uploads/2017/05/4578224_23cdc20d.jpg
ORGANIZER;CN="Irish%20Wildlife%20Trust%2C%20Dublin%20branch":MAILTO:dublinbranch@iwt.ie
END:VEVENT
END:VCALENDAR