BEGIN:VCALENDAR
VERSION:2.0
PRODID:-//Biodiversity Week - ECPv4.5.1//NONSGML v1.0//EN
CALSCALE:GREGORIAN
METHOD:PUBLISH
X-WR-CALNAME:Biodiversity Week
X-ORIGINAL-URL:http://biodiversityweek.ie
X-WR-CALDESC:Events for Biodiversity Week
BEGIN:VEVENT
DTSTART;TZID=Europe/Dublin:20170527T150000
DTEND;TZID=Europe/Dublin:20170527T170000
DTSTAMP:20171030T201603
CREATED:20170508T161727Z
LAST-MODIFIED:20170517T123652Z
UID:1961-1495897200-1495904400@biodiversityweek.ie
SUMMARY:Biodiversity Trek at Lough Boora Parkland
DESCRIPTION:Join the Irish Wildlife Trust for a guided walk to their nature reserve within the heart of the Lough Boora Parkland.\n\nThis event will involve waking from the visitors centre through woodland\, past an importance archaeological site to our nature reserve at the site of an now drained ancient lake. We will learn about natural woodland regeneration while keeping an eye out for butterflies\, bee and orchids amongst the other biodiversity present. This is an opportunity to see a beautiful nature reserve and learn about the biodiversity of Ireland's Midlands.
URL:http://biodiversityweek.ie/event/biodiversity-trek-at-lough-boora-parkland/
LOCATION:Lough Boora Parklands\, Co. Offaly\, Ireland
GEO:53.2242253;-7.7292086
X-APPLE-STRUCTURED-LOCATION;VALUE=URI;X-ADDRESS=Lough Boora Parklands Co. Offaly Ireland;X-APPLE-RADIUS=500;X-TITLE=Lough Boora Parklands:geo:-7.7292086,53.2242253
ATTACH;FMTTYPE=image/jpeg:http://biodiversityweek.ie/wp/wp-content/uploads/2017/05/Lough_Boora_Parklands-e1494281408471.jpg
ORGANIZER;CN="Irish%20Wildlife%20Trust":MAILTO:conservation@iwt.ie
END:VEVENT
END:VCALENDAR